BEGIN:VCALENDAR
VERSION:2.0
PRODID:spatie/icalendar-generator
NAME:EHS Band Boosters Association Calendar
X-WR-CALNAME:EHS Band Boosters Association Calendar
REFRESH-INTERVAL;VALUE=DURATION:PT30M
X-PUBLISHED-TTL:PT30M
BEGIN:VTIMEZONE
TZID:America/Chicago
BEGIN:STANDARD
DTSTART:20251102T010000
TZOFFSETFROM:-0500
TZOFFSETTO:-0600
END:STANDARD
BEGIN:DAYLIGHT
DTSTART:20260308T010000
TZOFFSETFROM:-0600
TZOFFSETTO:-0500
END:DAYLIGHT
BEGIN:STANDARD
DTSTART:20261101T010000
TZOFFSETFROM:-0500
TZOFFSETTO:-0600
END:STANDARD
BEGIN:DAYLIGHT
DTSTART:20270314T010000
TZOFFSETFROM:-0600
TZOFFSETTO:-0500
END:DAYLIGHT
END:VTIMEZONE
BEGIN:VTIMEZONE
TZID:UTC
BEGIN:STANDARD
DTSTART:20250725T190055
TZOFFSETFROM:+0000
TZOFFSETTO:+0000
END:STANDARD
END:VTIMEZONE
BEGIN:VEVENT
UID:event-452852@escambiaband.boosterhub.com
DTSTAMP:20260421T190055Z
SUMMARY:Memorial Day - No School
DESCRIPTION:
LOCATION:
X-MICROSOFT-CDO-ALLDAYEVENT:TRUE
DTSTART;TZID=America/Chicago;VALUE=DATE:20260525
DTEND;TZID=America/Chicago;VALUE=DATE:20260526
END:VEVENT
BEGIN:VEVENT
UID:event-452853@escambiaband.boosterhub.com
DTSTAMP:20260421T190055Z
SUMMARY:Last Day of School - Early Release Day
DESCRIPTION:
LOCATION:
X-MICROSOFT-CDO-ALLDAYEVENT:TRUE
DTSTART;TZID=America/Chicago;VALUE=DATE:20260522
DTEND;TZID=America/Chicago;VALUE=DATE:20260523
END:VEVENT
BEGIN:VEVENT
UID:event-452854@escambiaband.boosterhub.com
DTSTAMP:20260421T190055Z
SUMMARY:Teacher Work Day - Graduation - No School
DESCRIPTION:
LOCATION:
X-MICROSOFT-CDO-ALLDAYEVENT:TRUE
DTSTART;TZID=America/Chicago;VALUE=DATE:20260526
DTEND;TZID=America/Chicago;VALUE=DATE:20260528
END:VEVENT
BEGIN:VEVENT
UID:event-754645@escambiaband.boosterhub.com
DTSTAMP:20260421T190055Z
SUMMARY:Navy Days - Mandatory
DESCRIPTION:<p>More info and Times TBD - Mark Calendar. Mandatory as direct
 ed by Dr. Boddy.</p>
LOCATION:
X-MICROSOFT-CDO-ALLDAYEVENT:TRUE
DTSTART;TZID=America/Chicago;VALUE=DATE:20260509
DTEND;TZID=America/Chicago;VALUE=DATE:20260510
END:VEVENT
BEGIN:VEVENT
UID:event-756394@escambiaband.boosterhub.com
DTSTAMP:20260421T190055Z
SUMMARY:Booster Meeting
DESCRIPTION:<p>Please join us for important information regarding The Pride
 .</p>
LOCATION:
DTSTART;TZID=America/Chicago:20260511T183000
DTEND;TZID=America/Chicago:20260511T193000
END:VEVENT
BEGIN:VEVENT
UID:event-756395@escambiaband.boosterhub.com
DTSTAMP:20260421T190055Z
SUMMARY:Booster Meeting
DESCRIPTION:<p>Please join us for important information regarding The Pride
 .</p>
LOCATION:
DTSTART;TZID=America/Chicago:20260608T183000
DTEND;TZID=America/Chicago:20260608T193000
END:VEVENT
BEGIN:VEVENT
UID:event-762948@escambiaband.boosterhub.com
DTSTAMP:20260421T190055Z
SUMMARY:Band trip
DESCRIPTION:
LOCATION:Tennessee
X-MICROSOFT-CDO-ALLDAYEVENT:TRUE
DTSTART;TZID=America/Chicago;VALUE=DATE:20260602
DTEND;TZID=America/Chicago;VALUE=DATE:20260603
END:VEVENT
BEGIN:VEVENT
UID:event-762949@escambiaband.boosterhub.com
DTSTAMP:20260421T190055Z
SUMMARY:Band trip
DESCRIPTION:
LOCATION:Tennessee
X-MICROSOFT-CDO-ALLDAYEVENT:TRUE
DTSTART;TZID=America/Chicago;VALUE=DATE:20260603
DTEND;TZID=America/Chicago;VALUE=DATE:20260604
END:VEVENT
BEGIN:VEVENT
UID:event-762950@escambiaband.boosterhub.com
DTSTAMP:20260421T190055Z
SUMMARY:Band trip
DESCRIPTION:
LOCATION:Tennessee
X-MICROSOFT-CDO-ALLDAYEVENT:TRUE
DTSTART;TZID=America/Chicago;VALUE=DATE:20260604
DTEND;TZID=America/Chicago;VALUE=DATE:20260605
END:VEVENT
BEGIN:VEVENT
UID:event-762951@escambiaband.boosterhub.com
DTSTAMP:20260421T190055Z
SUMMARY:Band trip
DESCRIPTION:
LOCATION:Tennessee
X-MICROSOFT-CDO-ALLDAYEVENT:TRUE
DTSTART;TZID=America/Chicago;VALUE=DATE:20260605
DTEND;TZID=America/Chicago;VALUE=DATE:20260606
END:VEVENT
BEGIN:VEVENT
UID:event-842375@escambiaband.boosterhub.com
DTSTAMP:20260421T190055Z
SUMMARY:Jazz Band
DESCRIPTION:<p>This the jazz combined concert with Bailey MS in our Gym.</p
 >
LOCATION:EHS Gym
DTSTART;TZID=America/Chicago:20260507T183000
DTEND;TZID=America/Chicago:20260507T203000
END:VEVENT
BEGIN:VEVENT
UID:event-842381@escambiaband.boosterhub.com
DTSTAMP:20260421T190055Z
SUMMARY:Parade Practice
DESCRIPTION:
LOCATION:Band Room
DTSTART;TZID=America/Chicago:20260501T153000
DTEND;TZID=America/Chicago:20260501T163000
END:VEVENT
BEGIN:VEVENT
UID:event-842387@escambiaband.boosterhub.com
DTSTAMP:20260421T190055Z
SUMMARY:Spring Concert
DESCRIPTION:<p>Student will be asked to come in early to set up sound and d
 o sound check. More info TBD.</p>
LOCATION:EHS Gym
DTSTART;TZID=America/Chicago:20260514T183000
DTEND;TZID=America/Chicago:20260514T203000
END:VEVENT
BEGIN:VEVENT
UID:event-842398@escambiaband.boosterhub.com
DTSTAMP:20260421T190055Z
SUMMARY:Leadership Training
DESCRIPTION:<p>General Leadership will occur from 320-520. Drum Major Speci
 fic will be from 520-6pm</p>
LOCATION:Band Room
DTSTART;TZID=America/Chicago:20260504T152000
DTEND;TZID=America/Chicago:20260506T180000
END:VEVENT
BEGIN:VEVENT
UID:event-842401@escambiaband.boosterhub.com
DTSTAMP:20260421T190055Z
SUMMARY:Leadership Training
DESCRIPTION:
LOCATION:EHS Band Room
DTSTART;TZID=America/Chicago:20260507T152000
DTEND;TZID=America/Chicago:20260507T170000
END:VEVENT
BEGIN:VEVENT
UID:event-842402@escambiaband.boosterhub.com
DTSTAMP:20260421T190055Z
SUMMARY:Beats and Eats Jazz Festival
DESCRIPTION:<p>Jazz B performance time 2:30</p><p>Jazz A performance time 4
 :00</p><p><br></p><p>Students will need their own transportation- no bus. 
 Report time TBA</p>
LOCATION:Jernigan's Landing in Downtown Milton
X-MICROSOFT-CDO-ALLDAYEVENT:TRUE
DTSTART;TZID=America/Chicago;VALUE=DATE:20260425
DTEND;TZID=America/Chicago;VALUE=DATE:20260426
END:VEVENT
BEGIN:VEVENT
UID:event-842404@escambiaband.boosterhub.com
DTSTAMP:20260421T190055Z
SUMMARY:Leadership Training
DESCRIPTION:<p>Leadership Training will begin at 330pm and conclude at 530p
 m. Drum Major Specific will occur immediately after starting at 530 and un
 til 630pm</p>
LOCATION:Band Room
DTSTART;TZID=America/Chicago:20260427T153000
DTEND;TZID=America/Chicago:20260427T183000
END:VEVENT
BEGIN:VEVENT
UID:event-842487@escambiaband.boosterhub.com
DTSTAMP:20260421T190055Z
SUMMARY:Bailey MS Band Concert
DESCRIPTION:<p>Bailey MS Concert</p>
LOCATION:Bailey MS Band Room
DTSTART;TZID=America/Chicago:20260423T173000
END:VEVENT
BEGIN:VEVENT
UID:event-842490@escambiaband.boosterhub.com
DTSTAMP:20260421T190055Z
SUMMARY:Drum Major Auditions
DESCRIPTION:<p>Drum Major Auditions</p>
LOCATION:Band Room
DTSTART;TZID=America/Chicago:20260508T170000
DTEND;TZID=America/Chicago:20260508T200000
END:VEVENT
BEGIN:VEVENT
UID:event-844604@escambiaband.boosterhub.com
DTSTAMP:20260421T190055Z
SUMMARY:New Band Student and Parent Meeting
DESCRIPTION:
LOCATION:EHS Band Room or Cafeteria
DTSTART;TZID=America/Chicago:20260512T180000
DTEND;TZID=America/Chicago:20260512T200000
END:VEVENT
BEGIN:VEVENT
UID:event-844689@escambiaband.boosterhub.com
DTSTAMP:20260421T190055Z
SUMMARY:Rookie Camp
DESCRIPTION:
LOCATION:Band Room
DTSTART;TZID=America/Chicago:20260528T083000
DTEND;TZID=America/Chicago:20260529T170000
END:VEVENT
BEGIN:VEVENT
UID:event-844691@escambiaband.boosterhub.com
DTSTAMP:20260421T190055Z
SUMMARY:Full Band Camp
DESCRIPTION:
LOCATION:Band Room
DTSTART;TZID=America/Chicago:20260720T080000
DTEND;TZID=America/Chicago:20260723T170000
END:VEVENT
BEGIN:VEVENT
UID:event-844692@escambiaband.boosterhub.com
DTSTAMP:20260421T190055Z
SUMMARY:Full Band Camp
DESCRIPTION:
LOCATION:Band Room
DTSTART;TZID=America/Chicago:20260727T080000
DTEND;TZID=America/Chicago:20260730T170000
END:VEVENT
BEGIN:VEVENT
UID:event-844693@escambiaband.boosterhub.com
DTSTAMP:20260421T190055Z
SUMMARY:Preview Show
DESCRIPTION:<p>Student call time is 5pm. Preview show begins at 630pm</p>
LOCATION:Band Room
DTSTART;TZID=America/Chicago:20260731T170000
DTEND;TZID=America/Chicago:20260731T200000
END:VEVENT
BEGIN:VEVENT
UID:event-849580@escambiaband.boosterhub.com
DTSTAMP:20260421T190055Z
SUMMARY:Band Banquet
DESCRIPTION:
LOCATION:EHS Cafeteria
DTSTART;TZID=America/Chicago:20260523T170000
END:VEVENT
BEGIN:VEVENT
UID:event-849581@escambiaband.boosterhub.com
DTSTAMP:20260421T190055Z
SUMMARY:Band Banquet Set Up
DESCRIPTION:
LOCATION:EHS Cafeteria
DTSTART;TZID=America/Chicago:20260522T170000
END:VEVENT
BEGIN:VEVENT
UID:event-958409@escambiaband.boosterhub.com
DTSTAMP:20260421T190055Z
SUMMARY:Blue Wahoos Concessions
DESCRIPTION:<p>Parking: Anywhere you can find but be aware of paid parking!
  </p><p><br></p><p>Attire: Orange band shirt\, black pants or shorts (no j
 eans and shorts must be fingertip length) and closed toe shoes. Non-slip s
 hoes would be best as the floor can get slippery! Long hair must be pulled
  back.</p><p><br></p><p>Entry: To the left of the stadium (if you're looki
 ng at the stadium)\, through the catering entrance. I will get there early
  and wait for anybody who hasn't worked the Wahoos before\, by the front.<
 /p><p><br></p><p>This event will earn a $35 credit toward your student's a
 ccount.</p><p><br></p><p><strong><u>**Departure times are approximate -- i
 t may change due to game play or weather conditions**</u></strong></p><p><
 br></p><p><strong><u>**You MUST be 18 years old or older and NOT a current
  student of ECSD**</u></strong></p><p><br></p><p>Any questions feel free t
 o contact Gwen Reid (850) 791-7203</p><p><br></p><p>As always\, thanks for
  your support!!! </p>
LOCATION:Wahoos Stadium\, 351 W Cedar St
DTSTART;TZID=America/Chicago:20260524T140000
DTEND;TZID=America/Chicago:20260524T190000
END:VEVENT
BEGIN:VEVENT
UID:event-958410@escambiaband.boosterhub.com
DTSTAMP:20260421T190055Z
SUMMARY:Blue Wahoos Concessions
DESCRIPTION:<p>Parking: Anywhere you can find but be aware of paid parking!
  </p><p><br></p><p>Attire: Orange band shirt\, black pants or shorts (no j
 eans and shorts must be fingertip length) and closed toe shoes. Non-slip s
 hoes would be best as the floor can get slippery! Long hair must be pulled
  back.</p><p><br></p><p>Entry: To the left of the stadium (if you're looki
 ng at the stadium)\, through the catering entrance. I will get there early
  and wait for anybody who hasn't worked the Wahoos before\, by the front.<
 /p><p><br></p><p>This event will earn a $35 credit toward your student's a
 ccount.</p><p><br></p><p><strong><u>**Departure times are approximate -- i
 t may change due to game play or weather conditions**</u></strong></p><p><
 br></p><p><strong><u>**You MUST be 18 years old or older and NOT a current
  student of ECSD**</u></strong></p><p><br></p><p>Any questions feel free t
 o contact Gwen Reid (850) 791-7203</p><p><br></p><p>As always\, thanks for
  your support!!! </p>
LOCATION:Wahoos Stadium\, 351 W Cedar St
DTSTART;TZID=America/Chicago:20260726T140000
DTEND;TZID=America/Chicago:20260726T190000
END:VEVENT
BEGIN:VEVENT
UID:event-1005217@escambiaband.boosterhub.com
DTSTAMP:20260421T190055Z
SUMMARY:State Concert MPA
DESCRIPTION:<p>Symphonic Band will travel by Charter bus to Florida State U
 niversity for State Concert Band MPA. Exact Times TBD. All Day Affair.</p>
LOCATION:Florida State University
X-MICROSOFT-CDO-ALLDAYEVENT:TRUE
DTSTART;TZID=America/Chicago;VALUE=DATE:20260429
DTEND;TZID=America/Chicago;VALUE=DATE:20260430
END:VEVENT
BEGIN:VEVENT
UID:event-1005218@escambiaband.boosterhub.com
DTSTAMP:20260421T190055Z
SUMMARY:Symphonic Band Rehearsal
DESCRIPTION:<p>Symphonic State Concert MPA Rehearsal</p>
LOCATION:Band Room
DTSTART;TZID=America/Chicago:20260428T153000
DTEND;TZID=America/Chicago:20260428T173000
END:VEVENT
BEGIN:VEVENT
UID:event-1005219@escambiaband.boosterhub.com
DTSTAMP:20260421T190055Z
SUMMARY:Symphonic Band Rehearsal
DESCRIPTION:<p>Symphonic State Concert MPA Rehearsal</p>
LOCATION:Band Room
DTSTART;TZID=America/Chicago:20260422T153000
DTEND;TZID=America/Chicago:20260422T173000
END:VEVENT
BEGIN:VEVENT
UID:event-1176451@escambiaband.boosterhub.com
DTSTAMP:20260421T190055Z
SUMMARY:Jazz in the Park - Jazz A and Jazz B
DESCRIPTION:<p>This is the Bob Rockwell 16th Annual Jazz in the Park. This 
 event is sponsored by Playground Music. It is in Ft. Walton Beach at the L
 anding Park which is located in downtown Ft. Walton Beach. We will take a 
 school bus over there and leave from the school. More info TBD</p>
LOCATION:Ft Walton Beach - The Landing Park
DTSTART;TZID=America/Chicago:20260516T103000
DTEND;TZID=America/Chicago:20260516T170000
END:VEVENT
BEGIN:VEVENT
UID:event-1176998@escambiaband.boosterhub.com
DTSTAMP:20260421T190055Z
SUMMARY:Drum Major Help Days
DESCRIPTION:<p>Students who are interested in auditioning for Drum Major fo
 r next school year or future years should attend. Not mandatory.</p>
LOCATION:Band Room
DTSTART;TZID=America/Chicago:20260421T153000
DTEND;TZID=America/Chicago:20260421T170000
END:VEVENT
BEGIN:VEVENT
UID:event-1177159@escambiaband.boosterhub.com
DTSTAMP:20260421T190055Z
SUMMARY:Leadership Day
DESCRIPTION:
LOCATION:Band Room
DTSTART;TZID=America/Chicago:20260717T120000
DTEND;TZID=America/Chicago:20260717T170000
END:VEVENT
BEGIN:VEVENT
UID:event-1177160@escambiaband.boosterhub.com
DTSTAMP:20260421T190055Z
SUMMARY:Full Band Rehearsal
DESCRIPTION:<p>Last summer band rehearsal</p>
LOCATION:Band Room
DTSTART;TZID=America/Chicago:20260806T160000
DTEND;TZID=America/Chicago:20260806T200000
END:VEVENT
BEGIN:VEVENT
UID:event-1177161@escambiaband.boosterhub.com
DTSTAMP:20260421T190055Z
SUMMARY:First Day of School
DESCRIPTION:
LOCATION:
DTSTART;TZID=America/Chicago:20260812T083000
END:VEVENT
BEGIN:VEVENT
UID:event-1177162@escambiaband.boosterhub.com
DTSTAMP:20260421T190055Z
SUMMARY:Marching MPA
DESCRIPTION:
LOCATION:Tate High School
X-MICROSOFT-CDO-ALLDAYEVENT:TRUE
DTSTART;TZID=America/Chicago;VALUE=DATE:20261010
DTEND;TZID=America/Chicago;VALUE=DATE:20261011
END:VEVENT
BEGIN:VEVENT
UID:event-1179956@escambiaband.boosterhub.com
DTSTAMP:20260421T190055Z
SUMMARY:FBA Summer Convention
DESCRIPTION:<p>Students selected to perform at the FBA 9 Star Honor Band wi
 ll be in attendance.</p>
LOCATION:Orlando Seaworld DoubleTree
X-MICROSOFT-CDO-ALLDAYEVENT:TRUE
DTSTART;TZID=America/Chicago;VALUE=DATE:20260708
DTEND;TZID=America/Chicago;VALUE=DATE:20260710
END:VEVENT
END:VCALENDAR